BEGIN:VCALENDAR
PRODID:NingEventWidget-v1
VERSION:2.0
METHOD:PUBLISH
BEGIN:VEVENT
UID:3972652:Event:2248
DTSTAMP:20260419T120326Z
SUMMARY:Debra Peters & The Love Saints
DESCRIPTION:Debra Peters & The Love Saints\n(6 piece band with Accordi
 on, Pedal Steel Gtr & Fiddle too!\n@ the BROKEN SPOKE ...\nTUESDAY Jun
 e 29th 8-11pm\nACCORDION ROUND-UP is @ 7pm!\n\nHope to see you there m
 y lovely squeeze friends!\n\nFor more information visit https://texasa
 ccordionnet.ning.com/events/debra-peters-the-love-saints
DTSTART:20100630T000000Z
DTEND:20100630T040000Z
CATEGORIES:regular, last, tuesday, of, "ev'ry", month, "gig!"
LOCATION:3201 S. Lamar Blvd.  Austin TX
WEBSITE:http://www.debrapetersmusic.com
URL:http://www.debrapetersmusic.com
CONTACT:X
ORGANIZER;CN="Debra Peters":https://texasaccordionnet.ning.com/profile
 /DebraPeters
ATTACH;FMTTYPE="image/jpeg":http://storage.ning.com/topology/rest/1.0/
 file/get/2044369457?profile=original
ATTENDEE;ROLE=REQ-PARTICIPANT;PARTSTAT=ACCEPTED;RSVP=TRUE;CN="Beverly 
 Garcia":https://texasaccordionnet.ning.com/profile/BeverlyGarcia
ATTENDEE;ROLE=REQ-PARTICIPANT;PARTSTAT=ACCEPTED;RSVP=TRUE;CN="Debra Pe
 ters":https://texasaccordionnet.ning.com/profile/DebraPeters
END:VEVENT
END:VCALENDAR
